BEGIN:VCALENDAR
VERSION:2.0
PRODID:-//AIHRE - ECPv6.15.20//NONSGML v1.0//EN
CALSCALE:GREGORIAN
METHOD:PUBLISH
X-ORIGINAL-URL:https://aihre.eu/en
X-WR-CALDESC:Events for AIHRE
REFRESH-INTERVAL;VALUE=DURATION:PT1H
X-Robots-Tag:noindex
X-PUBLISHED-TTL:PT1H
BEGIN:VTIMEZONE
TZID:UTC
BEGIN:STANDARD
TZOFFSETFROM:+0000
TZOFFSETTO:+0000
TZNAME:UTC
DTSTART:20230101T000000
END:STANDARD
END:VTIMEZONE
BEGIN:VEVENT
DTSTART;TZID=UTC:20241114T160000
DTEND;TZID=UTC:20241114T173000
DTSTAMP:20260421T095348
CREATED:20241106T155827Z
LAST-MODIFIED:20241106T162006Z
UID:1468-1731600000-1731605400@aihre.eu
SUMMARY:El proyecto AIHRE\, presente en la IV Jornada de Hidrógeno Renovable en Galicia
DESCRIPTION:El proyecto AIHRE estará presente en la IV Jornada de Hidrógeno Renovable en Galicia. Este encuentro\, organizado por Cluergal – Clúster das Enerxías Renovables de Galicia\, tendrá lugar el 14 de noviembre en A Coruña. Nuestro socio\, el Instituto Tecnológico de Galicia\, estará representado por Ángel Álvarez Pardiñas\, quien expondrá nuestros trabajos en la implementación del hidrógeno renovable en España y Portugal. ¡Te animamos a consultar el programa y a inscribirte! \nPrograma:\n16.00 h Apertura institucional \n\nJosé Ramón Franco\, presidente de Cluergal – Clúster de Energías Renovables de Galicia.\nPablo Fernández Vila\, director xeral de planificación enerxética e minas da Xunta de Galicia.\n\n16.15 h Ponencias (pendiente de publicación). \n17.30 h Cierre de la jornada. \nInscripción abierta y gratuita: https://docs.google.com/forms/d/e/1FAIpQLSc8PThE1zq6K4wnM_KYPFxxDHbC4VVQBcARadIvpyZHKaDFGA/viewform \nDirección: Sede ITG. Cantón Grande\, 9\, A Coruña
URL:https://aihre.eu/en/event/h2gal-2024-iv-jornada-de-hidrogeno-renovable-en-galicia-a-coruna-14-11/
ATTACH;FMTTYPE=image/jpeg:https://aihre.eu/wp-content/uploads/2024/11/H2GAL-jornada-hidrogeno-galicia.jpg
END:VEVENT
END:VCALENDAR