BEGIN:VCALENDAR
VERSION:2.0
PRODID:-//AIHRE - ECPv6.15.20//NONSGML v1.0//EN
CALSCALE:GREGORIAN
METHOD:PUBLISH
X-WR-CALNAME:AIHRE
X-ORIGINAL-URL:https://aihre.eu
X-WR-CALDESC:Eventos para AIHRE
REFRESH-INTERVAL;VALUE=DURATION:PT1H
X-Robots-Tag:noindex
X-PUBLISHED-TTL:PT1H
BEGIN:VTIMEZONE
TZID:UTC
BEGIN:STANDARD
TZOFFSETFROM:+0000
TZOFFSETTO:+0000
TZNAME:UTC
DTSTART:20230101T000000
END:STANDARD
END:VTIMEZONE
BEGIN:VEVENT
DTSTART;VALUE=DATE:20241001
DTEND;VALUE=DATE:20241003
DTSTAMP:20260421T094459
CREATED:20240827T082005Z
LAST-MODIFIED:20240827T083229Z
UID:1353-1727740800-1727913599@aihre.eu
SUMMARY:17º Congreso Internacional de Bioenergía
DESCRIPTION:El proyecto AIHRE estará presente en el 17º Congreso Internacional de Bioenergía\, que se celebrará los días 1 y 2 de octubre en el recinto de Feria de Valladolid (España). Este encuentro\, organizado por la Asociación Española de Biomasa (AVEBIOM) y su partner técnico\, la Asociación Española de Biogás (AEBIG)\, se celebrará bajo el lema «Gases renovables\, los grandes aliados en la desfosilización de la economía española». En la cita\, empresas\, administraciones públicas e investigadores\, explorarán el papel de los gases renovables en la transición energética y la sostenibilidad ambiental. \nEl congreso\, que contará de forma paralela con la celebración del 4º Salón del Gas Renovable\, abarcará dos días repletos de ponencias y mesas redondas donde se tratarán temas como el desarrollo de biometano en Europa\, las nuevas tecnologías para los gases renovables\, o el autoconsumo de biogás y biometano\, entre otros. Además\, el encuentro contará con una zona expositiva de posters de proyectos e iniciativas relacionadas con la temática\, en la que el coordinador de AIHRE\, CIDAUT\, exhibirá un póster explicativo sobre nuestros trabajos en el impulso del hidrógeno renovable en la zona POCTEP.
URL:https://aihre.eu/event/congreso-internacional-bioenergia/
ATTACH;FMTTYPE=image/jpeg:https://aihre.eu/wp-content/uploads/2024/08/congreso_bioenergia_valladolid.jpg
END:VEVENT
END:VCALENDAR