BEGIN:VCALENDAR
VERSION:2.0
PRODID:-//AIHRE - ECPv6.15.20//NONSGML v1.0//EN
CALSCALE:GREGORIAN
METHOD:PUBLISH
X-ORIGINAL-URL:https://aihre.eu
X-WR-CALDESC:Eventos para AIHRE
REFRESH-INTERVAL;VALUE=DURATION:PT1H
X-Robots-Tag:noindex
X-PUBLISHED-TTL:PT1H
BEGIN:VTIMEZONE
TZID:UTC
BEGIN:STANDARD
TZOFFSETFROM:+0000
TZOFFSETTO:+0000
TZNAME:UTC
DTSTART:20240101T000000
END:STANDARD
END:VTIMEZONE
BEGIN:VEVENT
DTSTART;VALUE=DATE:20250625
DTEND;VALUE=DATE:20250628
DTSTAMP:20260420T052157
CREATED:20250109T112448Z
LAST-MODIFIED:20250319T085411Z
UID:1515-1750809600-1751068799@aihre.eu
SUMMARY:III International Summer School in Hydrogen & Fuel Cells Technology 2025
DESCRIPTION:La tercera edición de la International Summer School in Hydrogen & Fuel Cells Technology\, patrocinada por el proyecto AIHRE\, se celebrará del 25 al 27 de junio de 2025 en Oporto (Portugal). Este evento es un punto de encuentro para investigadores\, empresas\, figuras políticas y otras partes interesadas en aprender y compartir conocimientos sobre el hidrógeno renovable. La agenda contempla tres días de conferencias\, talleres y actividades sociales\, todas ellas de carácter gratuito. \nEste evento está organizado por la Universidad de Oporto\, entidad socia del proyecto AIHRE. Con dos ediciones previas realizadas en 2021 y 2023\, la escuela de verano se ha consolidado como un foro de debate sobre los desafíos\, avances recientes\, perspectivas futuras y aplicaciones emergentes en la tecnología de hidrógeno y pilas de combustible. \nMás información e inscripciones en la página web: https://h2fcschool20.wixsite.com/h2fcschool/registration-2025
URL:https://aihre.eu/event/iii-international-summer-school-in-hydrogen-fuel-cells-technology-2025/
ATTACH;FMTTYPE=image/jpeg:https://aihre.eu/wp-content/uploads/2025/01/Summer-School.jpg
END:VEVENT
BEGIN:VEVENT
DTSTART;TZID=UTC:20250729T103000
DTEND;TZID=UTC:20250729T133000
DTSTAMP:20260420T052157
CREATED:20250718T114552Z
LAST-MODIFIED:20250718T114552Z
UID:1613-1753785000-1753795800@aihre.eu
SUMMARY:Jornada de presentación de resultados del proyecto OPALH2
DESCRIPTION:El INTA y la Universidad de Sevilla\, ambos socios del proyecto AIHRE\, organizan en el Laboratorio del INTA la Jornada de presentación de resultados del proyecto “Operación y control de sistemas de Producción y ALmacenamiento de Hidrógeno mediante electrolizadores a partir de fuentes renovables (OPALH2)”. Durante este evento se presentarán los principales resultados del proyecto\, así como las líneas futuras de trabajo. \nEste evento es de interés para personas involucradas o interesadas en tecnologías de electrólisis\, producción y almacenamiento de hidrógeno\, especialmente dentro de la Actividad 3 del proyecto AIHRE. Se trata de una oportunidad para compartir experiencias e ideas que puedan desarrollarse en AIHRE y en otros posibles proyectos. \n📅 Fecha: martes 29 de julio📍 Lugar: Mazagón (Huelva) \nQuienes deseen participar en la jornada de forma remota pueden ponerse en contacto con Eduardo López (lopezge@inta.es) para coordinar los detalles de conexión. \nAgenda jornada de cierre OPALH2
URL:https://aihre.eu/event/jornada-de-presentacion-de-resultados-del-proyecto-opalh2/
ATTACH;FMTTYPE=image/jpeg:https://aihre.eu/wp-content/uploads/2025/07/Jornada-resultados.jpg
END:VEVENT
BEGIN:VEVENT
DTSTART;VALUE=DATE:20251001
DTEND;VALUE=DATE:20251003
DTSTAMP:20260420T052157
CREATED:20250722T111040Z
LAST-MODIFIED:20250722T112033Z
UID:1625-1759276800-1759449599@aihre.eu
SUMMARY:18º Congreso Internacional de Bioenergía
DESCRIPTION:El proyecto AIHRE estará presente en el 18º Congreso Internacional de Bioenergía\, que tendrá lugar los días 1 y 2 de octubre en el recinto de la Feria de Valladolid (España). Este evento\, organizado por la Asociación Española de Biomasa (AVEBIOM) junto con su partner técnico\, la Asociación Española de Biogás (AEBIG)\, se celebrará bajo el lema: «Biometano y otros gases renovables: El camino hacia una economía sostenible y competitiva». \nEn paralelo\, se desarrollará también el 5º Salón del Gas Renovable\, configurando un completo programa de dos jornadas con ponencias y mesas redondas\, donde se abordarán temáticas clave como el desarrollo del biometano en Europa\, nuevas tecnologías aplicadas a los gases renovables\, o el autoconsumo de biogás y biometano. Además\, el hidrógeno renovable también tendrá un papel destacado en este foro\, reflejando su creciente relevancia en la transición energética. \nEl congreso contará con una zona expositiva de pósters de proyectos e iniciativas relevantes. En este espacio\, el coordinador del proyecto AIHRE\, CIDAUT\, presentará un póster explicativo sobre las acciones que estamos desarrollando para impulsar el hidrógeno renovable en el territorio POCTEP.
URL:https://aihre.eu/event/18o-congreso-internacional-de-bioenergia/
ATTACH;FMTTYPE=image/jpeg:https://aihre.eu/wp-content/uploads/2025/07/Congreso-BIOENERGIA-25_AIHRE.jpg
END:VEVENT
BEGIN:VEVENT
DTSTART;TZID=UTC:20251128T100000
DTEND;TZID=UTC:20251128T120000
DTSTAMP:20260420T052157
CREATED:20251022T142130Z
LAST-MODIFIED:20251023T105632Z
UID:1651-1764324000-1764331200@aihre.eu
SUMMARY:Webinario: 'Oportunidades de financiación en hidrógeno renovable'
DESCRIPTION:Desde el proyecto AIHRE organizamos el webinario ‘Oportunidades de financiación en hidrógeno renovable’\, un encuentro en el que exploraremos las principales líneas de apoyo disponibles para impulsar el desarrollo tecnológico\, la innovación y la colaboración transfronteriza en el ámbito del hidrógeno verde. \nDurante esta jornada online\, contaremos con la participación de expertos de referencia en el sector\, quienes nos ofrecerán una visión actualizada sobre los programas nacionales y europeos de financiación\, con foco en España y Portugal\, así como sobre las oportunidades que ofrece el ecosistema del hidrógeno renovable en la península ibérica. \n¡Apúntate! \nPROGRAMA (HORA ESPAÑOLA) \n10.00h – Apertura y bienvenida.   \n\nDª. Paula Rosa. Consultora de Innovación en CTA. \n\n 10.05h – Presentación del proyecto AIHRE   \n\nD. José Ignacio Domínguez. Coordinador del proyecto AIHRE y Responsable de proyectos en CIDAUT. \n\n 10.15h – Programa Valles de H2. Cadena de valor innovadora. Subastas de hidrógeno renovables.  \n\nD. Santiago González. Jefe del Departamento de Hidrógeno Renovable en IDAE.\n\n10.45h – Programas de apoyo a la I+D+i en España.  \n\nD. Luis Maeso. Técnico del Departamento de Promoción Institucional y Cooperación Territorial de CDTI. \n\n11.15h – Programa europeo Horizon Europe Clean Hydrogen Partnership  \n\nDª. Cristina Garrido. Punto Nacional de Contacto de Clúster 5 Energía de Horizonte Europa de CDTI. \n\n 11.45h – Preguntas y clausura.  \n  \n\n		\n\n\n		\n\n				\n\n		\n 
URL:https://aihre.eu/event/webinario-oportunidades-financiacion-hidrogeno-renovable/
ATTACH;FMTTYPE=image/jpeg:https://aihre.eu/wp-content/uploads/2025/10/Jornada-CDTI.jpg
END:VEVENT
END:VCALENDAR