BEGIN:VCALENDAR
VERSION:2.0
PRODID:-//AIHRE - ECPv6.15.20//NONSGML v1.0//EN
CALSCALE:GREGORIAN
METHOD:PUBLISH
X-ORIGINAL-URL:https://aihre.eu/pt
X-WR-CALDESC:Eventos para AIHRE
REFRESH-INTERVAL;VALUE=DURATION:PT1H
X-Robots-Tag:noindex
X-PUBLISHED-TTL:PT1H
BEGIN:VTIMEZONE
TZID:UTC
BEGIN:STANDARD
TZOFFSETFROM:+0000
TZOFFSETTO:+0000
TZNAME:UTC
DTSTART:20230101T000000
END:STANDARD
END:VTIMEZONE
BEGIN:VEVENT
DTSTART;VALUE=DATE:20241115
DTEND;VALUE=DATE:20241116
DTSTAMP:20260421T100412
CREATED:20241007T101607Z
LAST-MODIFIED:20241009T115242Z
UID:1372-1731628800-1731715199@aihre.eu
SUMMARY:Primer Evento de Matchmaking del Proyecto AIHRE
DESCRIPTION:¡Nos complace anunciarte que el 15 de noviembre celebraremos el primer evento Matchmaking del proyecto AIHRE! Este evento\, que se celebrará de forma online\, será una excelente oportunidad para conectar con diversas organizaciones involucradas en la cadena de valor del hidrógeno renovable\, así como para explorar oportunidades de negocio en el área.   \nSi tu organización está activa o interesada en desarrollar proyectos relacionados con el hidrógeno renovable\, este es el momento perfecto para presentar tus ideas. Durante el evento\, tendrás la oportunidad de hacer un pitch de hasta 3 minutos\, donde podrás presentar tus soluciones\, capacidades y necesidades. La agenda contempla\, además\, una sección de debate dinámico entre las entidades participantes.  \nLas presentaciones para los pitches serán seleccionadas por los miembros del consorcio del proyecto AIHRE. Las organizaciones seleccionadas serán informadas antes del 5 de noviembre. Las presentaciones solo podrán contener una diapositiva.  \nAgenda:  \n\n\n\nHora (PT) \nHora (ES) \nAgenda \n\n\n9:30 \n10:30 \nApertura (PT) \n\n\n9:45 \n10:45 \nPresentación de los resultados de la actividad 1 (PT) \n\n\n10:00 \n11:00 \nPitch Empresas (máximo 20 participantes) (PT + ES) \n\n\n12:00 \n13:00 \nClausura (PT) 
URL:https://aihre.eu/pt/event/primer-evento-matchmaking-proyecto-aihre/
ATTACH;FMTTYPE=image/jpeg:https://aihre.eu/wp-content/uploads/2024/10/Evento-matchmaking.jpg
END:VEVENT
END:VCALENDAR